BEGIN:VCALENDAR
PRODID:-//Timepad Ltd.//NONSGML Timepad//RU
VERSION:2.0
METHOD:PUBLISH
BEGIN:VEVENT
UID:1908139109
DTSTART:20240301T000000
DTEND:2024032T000000
DTSTAMP:20240301T000000
SUMMARY:Международный саммит недвижимости "Движение" пройдет 1-2 марта в Дубае
DESCRIPTION:Международный саммит недвижимости "Движение" пройдет 1-2 марта 2024 года в Дубае.
URL:/20240301/dvizhenie-1908139109.html
END:VEVENT
END:VCALENDAR