BEGIN:VCALENDAR
PRODID:-//Timepad Ltd.//NONSGML Timepad//RU
VERSION:2.0
METHOD:PUBLISH
BEGIN:VEVENT
UID:1925001470
DTSTART:20240227T000000
DTEND:20240228T000000
DTSTAMP:20240227T000000
SUMMARY:Российская строительная неделя пройдет с 27 февраля по 1 марта в Москве
LOCATION:Москва, Краснопресненская набережная, 14, ЦВК "Экспоцентр"
END:VEVENT
END:VCALENDAR