BEGIN:VCALENDAR
PRODID:-//Timepad Ltd.//NONSGML Timepad//RU
VERSION:2.0
METHOD:PUBLISH
BEGIN:VEVENT
UID:1911248163
DTSTART:20231207T000000
DTEND:2023128T000000
DTSTAMP:20231207T000000
SUMMARY:Победителей премии лидеров рынка недвижимости "Rепутация" объявят в декабре
LOCATION:Москва, Саввинская набережная, 12с8, Soho Event Hall
END:VEVENT
END:VCALENDAR