BEGIN:VCALENDAR
PRODID:-//Timepad Ltd.//NONSGML Timepad//RU
VERSION:2.0
METHOD:PUBLISH
BEGIN:VEVENT
UID:1560887284
DTSTART:20191206T000000
DTEND:2019127T000000
DTSTAMP:20191206T000000
SUMMARY:Конференция РБК об итогах года в недвижимости пройдет 6 декабря
LOCATION:Москва, Four Seasons, улица Охотный Ряд, 2
END:VEVENT
END:VCALENDAR