BEGIN:VCALENDAR
PRODID:-//Timepad Ltd.//NONSGML Timepad//RU
VERSION:2.0
METHOD:PUBLISH
BEGIN:VEVENT
UID:1560403549
DTSTART:20191125T000000
DTEND:20191126T000000
DTSTAMP:20191125T000000
SUMMARY:Форум Urban Space 2019 пройдет в конце ноября в Москве
LOCATION:Courtyard Moscow City Center
END:VEVENT
END:VCALENDAR