BEGIN:VCALENDAR
PRODID:-//Timepad Ltd.//NONSGML Timepad//RU
VERSION:2.0
METHOD:PUBLISH
BEGIN:VEVENT
UID:1559307182
DTSTART:20191003T000000
DTEND:2019104T000000
DTSTAMP:20191003T000000
SUMMARY:Выставка "Город: детали" пройдет в начале октября в Москве
LOCATION:г. Москва, 75-й павильон ВДНХ
END:VEVENT
END:VCALENDAR