BEGIN:VCALENDAR
PRODID:-//Timepad Ltd.//NONSGML Timepad//RU
VERSION:2.0
METHOD:PUBLISH
BEGIN:VEVENT
UID:1559210755
DTSTART:20191018T000000
DTEND:20191019T000000
DTSTAMP:20191018T000000
SUMMARY:Всемирный конгресс World Urban Parks-2019 состоится в октябре в Казани
LOCATION:Международный выставочный центр "Казань Экспо"
END:VEVENT
END:VCALENDAR