BEGIN:VCALENDAR
PRODID:-//Timepad Ltd.//NONSGML Timepad//RU
VERSION:2.0
METHOD:PUBLISH
BEGIN:VEVENT
UID:1559122603
DTSTART:20191024T000000
DTEND:20191025T000000
DTSTAMP:20191024T000000
SUMMARY:Вторая Российская молодежная архитектурная биеннале
LOCATION:Республика Татарстан, г. Иннополис
END:VEVENT
END:VCALENDAR