BEGIN:VCALENDAR
PRODID:-//Timepad Ltd.//NONSGML Timepad//RU
VERSION:2.0
METHOD:PUBLISH
BEGIN:VEVENT
UID:1559114752
DTSTART:20191031T000000
DTEND:20191032T000000
DTSTAMP:20191031T000000
SUMMARY:XIII Московский форум лидеров рынка недвижимости пройдет 31 октября
LOCATION:Москва, Lotte Hotel Moscow, Новинский бульвар, дом 8, строение 2.
END:VEVENT
END:VCALENDAR