BEGIN:VCALENDAR
PRODID:-//Timepad Ltd.//NONSGML Timepad//RU
VERSION:2.0
METHOD:PUBLISH
BEGIN:VEVENT
UID:1556085237
DTSTART:20190814T000000
DTEND:20190815T000000
DTSTAMP:20190814T000000
SUMMARY:Бизнес-бранч "Коммерсанта" для девелоперов пройдет в Москве в августе
LOCATION:уточняется
END:VEVENT
END:VCALENDAR