BEGIN:VCALENDAR
PRODID:-//Timepad Ltd.//NONSGML Timepad//RU
VERSION:2.0
METHOD:PUBLISH
BEGIN:VEVENT
UID:1556084810
DTSTART:20190919T000000
DTEND:20190920T000000
DTSTAMP:20190919T000000
SUMMARY:Складская конференция Knight Frank пройдет 19 сентября в Москве
LOCATION:Москва, Новинский бульвар, дом 8, строение 2.
END:VEVENT
END:VCALENDAR