BEGIN:VCALENDAR
PRODID:-//Timepad Ltd.//NONSGML Timepad//RU
VERSION:2.0
METHOD:PUBLISH
BEGIN:VEVENT
UID:1555888916
DTSTART:20190704T000000
DTEND:2019075T000000
DTSTAMP:20190704T000000
SUMMARY:Форум "Мой район" пройдет 4-6 июля 2019 в Гостином дворе
LOCATION:Москва, Гостиный двор
END:VEVENT
END:VCALENDAR