BEGIN:VCALENDAR
PRODID:-//Timepad Ltd.//NONSGML Timepad//RU
VERSION:2.0
METHOD:PUBLISH
BEGIN:VEVENT
UID:1555103267
DTSTART:20190529T000000
DTEND:20190530T000000
DTSTAMP:20190529T000000
SUMMARY:Фотовыставка ГБУ "Автомобильные дороги"
LOCATION:Москва, Никитский бульвар
END:VEVENT
END:VCALENDAR