BEGIN:VCALENDAR
PRODID:-//Timepad Ltd.//NONSGML Timepad//RU
VERSION:2.0
METHOD:PUBLISH
BEGIN:VEVENT
UID:1553658386
DTSTART:20190531T000000
DTEND:20190532T000000
DTSTAMP:20190531T000000
SUMMARY:Российский форум по инновациям в недвижимости пройдет в Москве 31 мая
LOCATION:Москва, улица Петровка, 11
END:VEVENT
END:VCALENDAR