BEGIN:VCALENDAR
PRODID:-//Timepad Ltd.//NONSGML Timepad//RU
VERSION:2.0
METHOD:PUBLISH
BEGIN:VEVENT
UID:1552084657
DTSTART:20190425T000000
DTEND:20190426T000000
DTSTAMP:20190425T000000
SUMMARY:Форум "Управляй и властвуй" пройдет в апреле в Москве
LOCATION:Москва
END:VEVENT
END:VCALENDAR