BEGIN:VCALENDAR
PRODID:-//Timepad Ltd.//NONSGML Timepad//RU
VERSION:2.0
METHOD:PUBLISH
BEGIN:VEVENT
UID:1551934794
DTSTART:20190528T000000
DTEND:20190529T000000
DTSTAMP:20190528T000000
SUMMARY:Конференция "Арена Форум 4.0" пройдет 28 марта в Москве
LOCATION:Москва, стадион "ВТБ Арена"
END:VEVENT
END:VCALENDAR