BEGIN:VCALENDAR
PRODID:-//Timepad Ltd.//NONSGML Timepad//RU
VERSION:2.0
METHOD:PUBLISH
BEGIN:VEVENT
UID:1551691235
DTSTART:20190322T000000
DTEND:20190323T000000
DTSTAMP:20190322T000000
SUMMARY:Конференция о маркетинге и рекламе "МарТех.Недвижимость" пройдет в марте
LOCATION:Штаб-квартира Яндекс, зал "Экстрополис" (Москва, улица Льва Толстого,16)
END:VEVENT
END:VCALENDAR