BEGIN:VCALENDAR
PRODID:-//Timepad Ltd.//NONSGML Timepad//RU
VERSION:2.0
METHOD:PUBLISH
BEGIN:VEVENT
UID:1551405006
DTSTART:20190314T000000
DTEND:20190315T000000
DTSTAMP:20190314T000000
SUMMARY:Первый международный форум "умных городов" пройдет 14-15 марта
LOCATION:Калуга, улица Октябрьская, 17 А, Инновационный культурный центр.
END:VEVENT
END:VCALENDAR