BEGIN:VCALENDAR
PRODID:-//Timepad Ltd.//NONSGML Timepad//RU
VERSION:2.0
METHOD:PUBLISH
BEGIN:VEVENT
UID:1550396229
DTSTART:20190220T000000
DTEND:20190221T000000
DTSTAMP:20190220T000000
SUMMARY:X Финансовый форум по недвижимости состоится 20 февраля
LOCATION:Москва, The St. Regis Moscow Nikolskaya, улица Никольская, 12.
END:VEVENT
END:VCALENDAR