BEGIN:VCALENDAR
PRODID:-//Timepad Ltd.//NONSGML Timepad//RU
VERSION:2.0
METHOD:PUBLISH
BEGIN:VEVENT
UID:1549867374
DTSTART:20190214T000000
DTEND:20190215T000000
DTSTAMP:20190214T000000
SUMMARY:Российский инвестиционный форум пройдет в феврале в Сочи
LOCATION:
END:VEVENT
END:VCALENDAR