BEGIN:VCALENDAR
PRODID:-//Timepad Ltd.//NONSGML Timepad//RU
VERSION:2.0
METHOD:PUBLISH
BEGIN:VEVENT
UID:1549865559
DTSTART:20190214T000000
DTEND:20190215T000000
DTSTAMP:20190214T000000
SUMMARY:Конференция "Умный город: от теории к практике" пройдет 14 февраля
LOCATION:Сочи, Главный медиацентр Олимпийского парка
END:VEVENT
END:VCALENDAR