BEGIN:VCALENDAR
PRODID:-//Timepad Ltd.//NONSGML Timepad//RU
VERSION:2.0
METHOD:PUBLISH
BEGIN:VEVENT
UID:1549865058
DTSTART:20190130T000000
DTEND:20190131T000000
DTSTAMP:20190130T000000
SUMMARY:Конференция "Транспортно-ориентированный девелопмент"
LOCATION:Москва, улица Тверская, дом 3
END:VEVENT
END:VCALENDAR