BEGIN:VCALENDAR
PRODID:-//Timepad Ltd.//NONSGML Timepad//RU
VERSION:2.0
METHOD:PUBLISH
BEGIN:VEVENT
UID:1549864672
DTSTART:20190321T000000
DTEND:20190322T000000
DTSTAMP:20190321T000000
SUMMARY:Конференция "Ритейл в России" пройдет 21 марта 2019 года
LOCATION:Москва, улица Тверская, дом 26
END:VEVENT
END:VCALENDAR