BEGIN:VCALENDAR
PRODID:-//Timepad Ltd.//NONSGML Timepad//RU
VERSION:2.0
METHOD:PUBLISH
BEGIN:VEVENT
UID:1549863766
DTSTART:20190228T000000
DTEND:20190229T000000
DTSTAMP:20190228T000000
SUMMARY:Конференция "Smart-технологии для города" пройдет 28 февраля 2019 года
LOCATION:Москва, улица Поклонная, дом 3
END:VEVENT
END:VCALENDAR