BEGIN:VCALENDAR
PRODID:-//Timepad Ltd.//NONSGML Timepad//RU
VERSION:2.0
METHOD:PUBLISH
BEGIN:VEVENT
UID:1549861862
DTSTART:20190207T000000
DTEND:2019028T000000
DTSTAMP:20190207T000000
SUMMARY:Конференция "Цены на взлет! Что ждет рынок недвижимости в 2019 году?" пройдет 7 февраля 2019 года
LOCATION:Москва, улица Тверская, дом 3
END:VEVENT
END:VCALENDAR