BEGIN:VCALENDAR
PRODID:-//Timepad Ltd.//NONSGML Timepad//RU
VERSION:2.0
METHOD:PUBLISH
BEGIN:VEVENT
UID:1548211111
DTSTART:20190125T000000
DTEND:20190126T000000
DTSTAMP:20190125T000000
SUMMARY:Конференция "Ипотечное кредитование в России" пройдет 25 января 2019 года
LOCATION:Москва, улица Губкина, дом 3
END:VEVENT
END:VCALENDAR