BEGIN:VCALENDAR
PRODID:-//Timepad Ltd.//NONSGML Timepad//RU
VERSION:2.0
METHOD:PUBLISH
BEGIN:VEVENT
UID:1547483878
DTSTART:20190328T000000
DTEND:20190329T000000
DTSTAMP:20190328T000000
SUMMARY:Выставка "Недвижимость" пройдет в Гостином дворе в Москве 28-31 марта
LOCATION:Москва, Гостиный двор
END:VEVENT
END:VCALENDAR